BEGIN:VCALENDAR
VERSION:2.0
PRODID:-//University of Health Sciences and Pharmacy in St. Louis - ECPv6.15.20//NONSGML v1.0//EN
CALSCALE:GREGORIAN
METHOD:PUBLISH
X-WR-CALNAME:University of Health Sciences and Pharmacy in St. Louis
X-ORIGINAL-URL:https://www.uhsp.edu
X-WR-CALDESC:Events for University of Health Sciences and Pharmacy in St. Louis
REFRESH-INTERVAL;VALUE=DURATION:PT1H
X-Robots-Tag:noindex
X-PUBLISHED-TTL:PT1H
BEGIN:VTIMEZONE
TZID:America/Chicago
BEGIN:DAYLIGHT
TZOFFSETFROM:-0600
TZOFFSETTO:-0500
TZNAME:CDT
DTSTART:20240310T080000
END:DAYLIGHT
BEGIN:STANDARD
TZOFFSETFROM:-0500
TZOFFSETTO:-0600
TZNAME:CST
DTSTART:20241103T070000
END:STANDARD
BEGIN:DAYLIGHT
TZOFFSETFROM:-0600
TZOFFSETTO:-0500
TZNAME:CDT
DTSTART:20250309T080000
END:DAYLIGHT
BEGIN:STANDARD
TZOFFSETFROM:-0500
TZOFFSETTO:-0600
TZNAME:CST
DTSTART:20251102T070000
END:STANDARD
BEGIN:DAYLIGHT
TZOFFSETFROM:-0600
TZOFFSETTO:-0500
TZNAME:CDT
DTSTART:20260308T080000
END:DAYLIGHT
BEGIN:STANDARD
TZOFFSETFROM:-0500
TZOFFSETTO:-0600
TZNAME:CST
DTSTART:20261101T070000
END:STANDARD
END:VTIMEZONE
BEGIN:VEVENT
DTSTART;TZID=America/Chicago:20251010T180000
DTEND;TZID=America/Chicago:20251010T193000
DTSTAMP:20260421T054622
CREATED:20250728T212838Z
LAST-MODIFIED:20250930T210504Z
UID:10000069-1760119200-1760124600@www.uhsp.edu
SUMMARY:Chicago Area Alumni Reception
DESCRIPTION:2026 Reunion Weekend\n\n\nDate: Oct. 10Time: 6-7:30 p.m. \n\n\n\nAlumni attending the Illinois Pharmacists Association’s Annual Conference and those in the Chicago area are invited to reconnect over drinks and hors d’oeuvres during our University reception at The Westin Chicago Lombard. \n\n\n\n\nRegister now\n\n\n\n\n\n\n\n\n\n\n\n\n\n\n\n\n\n\n\n\nTIME \n\n\n\nThe event will begin at 6 p.m. \n\n\n\n\n\n\n\n\n\nLocation \n\n\n\nThe Westin Chicago Lombard at 70 Yorktown Shopping Center\, Lombard\, IL 60148. \n\n\n\n\n\n\n\n\n\n\n\n\nQuestions?\n\n\n\nIf you have any questions about the event\, please contact DeAmbra Crochrell\, director of alumni engagement\, at deambra.crochrell@uhsp.edu. \n\n\n\n\n\n\n\nDon’t Miss These Upcoming Events\n\n\n\n\n	\n					\n				\n					\n						\n						\n							May\n							07\n						\n					\n					\n						Grad Happy Hour\n					\n\n											Welcome the class of 2026 to the alumni community during our grad happy hour and join us in celebrating this important milestone. \n						\n									\n			\n						\n				\n					\n						\n						\n							May\n							09\n						\n					\n					\n						Gold Alumni Commencement Celebration\n					\n\n											Walk once more in celebration side-by-side with our newest graduates. We warmly invite all Gold Alumni—those who have received their 50-Year Gold Medallion—to take…
URL:https://www.uhsp.edu/event/chicago-area-alumni-reception/
CATEGORIES:Alumni
ATTACH;FMTTYPE=image/png:https://www.uhsp.edu/wp-content/uploads/2025/07/Chicago-scaled.png
END:VEVENT
BEGIN:VEVENT
DTSTART;TZID=America/Chicago:20251015T183000
DTEND;TZID=America/Chicago:20251015T193000
DTSTAMP:20260421T054622
CREATED:20250924T191244Z
LAST-MODIFIED:20250924T203936Z
UID:10000075-1760553000-1760556600@www.uhsp.edu
SUMMARY:Virtual Author Talk with Alumna Rachel Hagemann\, RPH
DESCRIPTION:2026 Reunion Weekend\n\n\nDate: Oct. 15Time: 6:30-7:30 p.m. \n\n\n\nReconnect with fellow alumni during an engaging virtual author talk featuring our very own Rachel Hageman B.S. ’95 RPH! Dive into her captivating debut novel\, The Pharmacy Student: A Narcissist\, set against the backdrop of the St. Louis College of Pharmacy at UHSP. This powerful story unravels the lives of a close-knit group of students as they navigate the profound impact of losing a friend unexpectedly. Join us for an insightful discussion where you can ask Rachel questions about her writing journey\, share your own experiences from your time at the College\, and reflect on how those days shaped your path. \n\n\n\n\nREGISTER NOW\n\n\n\n\n\n\n\n\n\n\n\n\n\n\n\n\n\n\n\n\nTIME \n\n\n\nThe event will begin at 12:30 p.m. \n\n\n\n\n\n\n\n\n\nLocation \n\n\n\nOnline \n\n\n\n\n\n\n\n\n\n\n\n\nQuestions?\n\n\n\nIf you have any questions about the event\, please contact us at alumni@uhsp.edu or call 314.446.8501. \n\n\n\n\n\n\n\nDon’t Miss These Upcoming Events\n\n\n\n\n	\n					\n				\n					\n						\n						\n							May\n							07\n						\n					\n					\n						Grad Happy Hour\n					\n\n											Welcome the class of 2026 to the alumni community during our grad happy hour and join us in celebrating this important milestone. \n						\n									\n			\n						\n				\n					\n						\n						\n							May\n							09\n						\n					\n					\n						Gold Alumni Commencement Celebration\n					\n\n											Walk once more in celebration side-by-side with our newest graduates. We warmly invite all Gold Alumni—those who have received their 50-Year Gold Medallion—to take…
URL:https://www.uhsp.edu/event/virtual-author-talk-with-alumna-rachel-hagemann-rph/
CATEGORIES:Alumni
ATTACH;FMTTYPE=image/jpeg:https://www.uhsp.edu/wp-content/uploads/2025/09/Copy-of-Reading-period-August-October-11.jpg
END:VEVENT
BEGIN:VEVENT
DTSTART;TZID=America/Chicago:20251019T200000
DTEND;TZID=America/Chicago:20251019T210000
DTSTAMP:20260421T054622
CREATED:20250806T193549Z
LAST-MODIFIED:20250820T134805Z
UID:10000072-1760904000-1760907600@www.uhsp.edu
SUMMARY:Minneapolis Alumni Reception
DESCRIPTION:2026 Reunion Weekend\n\n\nDate: Oct. 19Time: 8-9:30 p.m. \n\n\n\nAlumni attending The American College of Clinical Pharmacy’s Annual Meeting and those in the Minneapolis area are invited to reconnect over drinks and hors d’oeuvres during our University reception. \n\n\n\n\nregister now\n\n\n\n\n\n\n\n\n\n\n\n\n\n\n\n\n\n\n\n\nTIME \n\n\n\nThe event will begin at 8 p.m. \n\n\n\n\n\n\n\n\n\nLocation \n\n\n\nThe Hyatt Regency Minneapolis at 1300 Nicollet Mall\, Minneapolis\, MN 55403. \n\n\n\n\n\n\n\n\n\n\n\n\nQuestions?\n\n\n\nIf you have any questions about the event\, please contact DeAmbra Crochrell\, director of alumni engagement\, at deambra.crochrell@uhsp.edu. \n\n\n\n\n\n\n\nDon’t Miss These Upcoming Events\n\n\n\n\n	\n					\n				\n					\n						\n						\n							May\n							07\n						\n					\n					\n						Grad Happy Hour\n					\n\n											Welcome the class of 2026 to the alumni community during our grad happy hour and join us in celebrating this important milestone. \n						\n									\n			\n						\n				\n					\n						\n						\n							May\n							09\n						\n					\n					\n						Gold Alumni Commencement Celebration\n					\n\n											Walk once more in celebration side-by-side with our newest graduates. We warmly invite all Gold Alumni—those who have received their 50-Year Gold Medallion—to take…
URL:https://www.uhsp.edu/event/minneapolis-alumni-reception/
CATEGORIES:Alumni
ATTACH;FMTTYPE=image/jpeg:https://www.uhsp.edu/wp-content/uploads/2025/07/ASHP-24-scaled.jpg
END:VEVENT
END:VCALENDAR